BEGIN:VCALENDAR
VERSION:2.0
PRODID:-//eventon.com NONSGML v1.0//EN
CALSCALE:GREGORIAN
METHOD:PUBLISH
BEGIN:VEVENT
UID:69e9654c984f1
DTSTAMP:20260423T021820
DTSTART:20260528T120000Z
DTEND:20260528T150000Z
TZID:Europe/Amsterdam
LOCATION:
SUMMARY:Beter leren van incidenten
DESCRIPTION: Uitnodiging volgt. &nbsp; &nbsp;\nhttps://mvzo.org/events/beter-leren-van-incidenten/
URL:https://mvzo.org/events/beter-leren-van-incidenten/
END:VEVENT
END:VCALENDAR